BEGIN:VCALENDAR
VERSION:2.0
PRODID:-//sebbo.net//ical-generator//EN
BEGIN:VEVENT
UID:991e6cd1-872f-457c-9acf-760e864aa4be
SEQUENCE:0
DTSTAMP:20260420T082627Z
DTSTART:20260529T133000Z
DTEND:20260529T163000Z
SUMMARY:1 Tag ohne Meer - Album Release Konzert - Gießen - Kloster Schiff
 enberg
LOCATION:Kloster Schiffenberg\, Domäne Schiffenberg 1\, 35394 Gießen\, D
 eutschland
DESCRIPTION:Einlass: 15:30 Uhr\, Beginn: 16:30
END:VEVENT
END:VCALENDAR